BEGIN:VCALENDAR
VERSION:2.0
PRODID:-//Tukios.com/
BEGIN:VEVENT
UID:b505fe6a-9cba-4946-95ce-56064c9c5e69@www.pennsylvaniaburialcompany.com
DTSTAMP:20260419T201254Z
DTSTART:20260423T130000Z
DTEND:20260423T143000Z
SUMMARY:Visitation For : Fu He Liu
DESCRIPTION:Interment To Follow
Ewing Church Cemetery
100 Scotch 
	Rd.
Ewing Twp.. Mercer Co., NJ 08628
URL:https://www.pennsylvaniaburialcompany.com/obituaries/fu-liu
LOCATION: 1327-29 S Broad St  Philadelphia PA 19147
GEO:39.9331921;-75.1673452
END:VEVENT
END:VCALENDAR