BEGIN:VCALENDAR
VERSION:2.0
PRODID:-//Tukios.com/
BEGIN:VEVENT
UID:56d49f02-b492-4faa-a009-7af8af21b47d@www.pennsylvaniaburialcompany.com
DTSTAMP:20260425T000450Z
DTSTART:20260606T140000Z
DTEND:20260606T160000Z
SUMMARY:Memorial Gathering For : Theodore S. Picano
DESCRIPTION:
URL:https://www.pennsylvaniaburialcompany.com/obituaries/theodore-picano
LOCATION: 1327-29 S Broad St  Philadelphia PA 19147
GEO:39.9331921;-75.1673452
END:VEVENT
END:VCALENDAR